BEGIN:VCALENDAR
VERSION:2.0
PRODID:-//Schudio.com//Schudio Calendar 1.0//EN
CALSCALE:GREGORIAN
METHOD:PUBLISH
X-WR-CALNAME:Poole High School
X-WR-TIMEZONE:Europe/London
BEGIN:VEVENT
SUMMARY:Half-term Spring Holiday
UID:eb01a94a6c6c5b87b463387d861494d7@schudio.com
SEQUENCE:0
STATUS:CONFIRMED
TRANSP:TRANSPARENT
DTSTART;VALUE=DATE:20260216
DTEND;VALUE=DATE:20260221
DTSTAMP:20260421T183243Z
CREATED:20250110T104155Z
LAST-MODIFIED:20250110T104155Z
CATEGORIES:
LOCATION:
ORGANIZER:
DESCRIPTION:
END:VEVENT
END:VCALENDAR